BEGIN:VCALENDAR
VERSION:2.0
PRODID:-//ChamberMaster//Event Calendar 2.0//EN
METHOD:PUBLISH
X-PUBLISHED-TTL:P1H
REFRESH-INTERVAL:P1H
CALSCALE:GREGORIAN
BEGIN:VTIMEZONE
TZID:America/Vancouver
BEGIN:DAYLIGHT
RRULE:FREQ=YEARLY;BYMONTH=3;BYDAY=2SU
DTSTART:20070101T000000
TZOFFSETFROM:-0800
TZOFFSETTO:-0700
TZNAME:Pacific Daylight Time
END:DAYLIGHT
BEGIN:STANDARD
RRULE:FREQ=YEARLY;BYMONTH=11;BYDAY=1SU
DTSTART:20070101T000000
TZOFFSETFROM:-0700
TZOFFSETTO:-0800
TZNAME:Pacific Standard Time
END:STANDARD
END:VTIMEZONE
BEGIN:VEVENT
DTSTART;TZID=America/Vancouver:20260526T090000
DTEND;TZID=America/Vancouver:20260528T160000
X-MICROSOFT-CDO-ALLDAYEVENT:FALSE
SUMMARY:Online Foundations of Collaborative Conflict Resolution
DESCRIPTION:In collaboration with the Justice Institute of BC\, PSEA is pleased to offer this foundational course on effective\, practical ways to engage collaboratively in interpersonal conflict that can arise in the post-secondary sector workplace. By examining sources of conflict attitudes and beliefs\, conflict styles\, and the role of assumptions and emotions\, you will gain insight into conflict dynamics and practice evidence-based collaboration strategies.Personal reflection and peer engagement will give you a broad view of conflict as an integral aspect of human nature. You will explore the possibilities conflict holds for learning\, growth\, and creativity. You will learn how to prepare to invite others in your workplace into a collaborative conflict conversation and how to lead a structured conflict resolution dialogue. This highly participatory course emphasizes self-awareness and understanding through structured exercises and role play. Please note: Participants who complete the workshop will receive credit from the JIBC toward their Certificate in Collaborative Conflict Resolution. WORKSHOP GOAL This course aims to provide learners with the knowledge and skills to recognize the benefits and opportunities in conflict and engage collaboratively with others in a conflict resolution dialogue. Facilitators: Deborah White\, Cert. ConRes.\, BSW\, MA (Applied Behavioral Science) works in organizations as a management consultant\, conflict coach\, mediator\, facilitator and trainer. As a senior faculty member in the internationally recognized Centre for Conflict Resolution at the Justice Institute of British Columbia\, Deborah enjoys teaching and interacting with participants wanting to learn how to bring constructive and collaborative processes to difficult situations. Having worked in the family meditation field in the early stages of her career\, she brings that knowledge and experience to the work she does currently. With more than 25 years of experience in both public and private sectors\, large and small organizations\, her goal is to assist individuals and groups to have difficult conversations or negotiations in a way that the parties can reach mutually satisfactory outcomes while maintaining a workable relationship. When intervening in a conflict\, Deborah focuses on understanding how power dynamics play a role in the situation. Having worked with Indigenous Communities\, she brings awareness of how equity\, diversity and inclusion impacts the success of any negotiation or mediation. Additional coaches will be assisting on day 3.
X-ALT-DESC;FMTTYPE=text/html:<!DOCTYPE html><html><head><title></title></head><body aria-disabled="false" spellcheck="false"><p><span style="font-size: 14px\; color: rgb(0\, 0\, 0)\;">In collaboration with the Justice Institute of BC\, PSEA is pleased to offer this foundational course on effective\, practical ways to engage collaboratively in interpersonal conflict that can arise in the post-secondary sector workplace. By examining sources of conflict attitudes and beliefs\, conflict styles\, and the role of assumptions and emotions\, you will gain insight into conflict dynamics and practice evidence-based collaboration strategies.</span></p><p><span style="color: rgb(0\, 0\, 0)\;"><span style="font-size: 14px\;">Personal reflection and peer engagement will give you a broad view of conflict as an integral aspect of human nature. You will explore the possibilities conflict holds for learning\, growth\, and creativity. You will learn how to prepare to invite others in your workplace into a collaborative conflict conversation and how to lead a structured conflict resolution dialogue.&nbsp\;</span></span></p><p><span style="color: rgb(0\, 0\, 0)\;"><span style="font-size: 14px\;">This highly participatory course emphasizes self-awareness and understanding through structured exercises and role play.&nbsp\;</span></span></p><p><span style="font-size: 14px\;"><span style="color: rgb(0\, 0\, 0)\;"><strong fr-original-style="" style="font-weight: 700\;">Please note:&nbsp\;</strong>Participants who complete the workshop will receive credit from the</span> <strong fr-original-style="" style="font-weight: 700\;">JIBC toward their Certificate in Collaborative Conflict Resolution.&nbsp\;</strong></span></p><p><span style="font-size: 14px\;"><strong fr-original-style="" style="font-weight: 700\;">WORKSHOP GOAL&nbsp\;</strong></span></p><p><span style="font-size: 14px\; color: rgb(0\, 0\, 0)\;">This course aims to provide learners with the knowledge and skills to recognize the benefits and opportunities in conflict and engage collaboratively with others in a conflict resolution dialogue.&nbsp\;</span></p><p><span style="font-size: 14px\;"><strong fr-original-style="" style="font-weight: 700\;">Facilitators:</strong>&nbsp\;</span></p><p><span style="font-size: 14px\;"><strong fr-original-style="" style="font-weight: 700\;">Deborah White\, Cert. ConRes.\, BSW\, MA (Applied Behavioral Science) </strong>works in organizations as a management consultant\, conflict coach\, mediator\, facilitator and trainer. As a senior faculty member in the internationally recognized Centre for Conflict Resolution at the Justice Institute of British Columbia\, Deborah enjoys teaching and interacting with participants wanting to learn how to bring constructive and collaborative processes to difficult situations. Having worked in the family meditation field in the early stages of her career\, she brings that knowledge and experience to the work she does currently. With more than 25 years of experience in both public and private sectors\, large and small organizations\, her goal is to assist individuals and groups to have difficult conversations or negotiations in a way that the parties can reach mutually satisfactory outcomes while maintaining a workable relationship. When intervening in a conflict\, Deborah focuses on understanding how power dynamics play a role in the situation. Having worked with Indigenous Communities\, she brings awareness of how equity\, diversity and inclusion impacts the success of any negotiation or mediation. </span></p><p><span style="font-family: Arial\, Helvetica\, sans-serif\; font-size: 14px\;">Additional coaches will be assisting on day 3.</span></p></body></html>
LOCATION:
UID:e.4371.1343686
SEQUENCE:3
DTSTAMP:20260424T093000Z
URL:https://members.psea.bc.ca/eventcalendar/Details/online-foundations-of-collaborative-conflict-resolution-1578555?sourceTypeId=Hub
END:VEVENT
END:VCALENDAR
